BEGIN:VCALENDAR
VERSION:2.0
PRODID:-//Noordwijkse Golfclub - ECPv5.16.4//NONSGML v1.0//EN
CALSCALE:GREGORIAN
METHOD:PUBLISH
X-WR-CALNAME:Noordwijkse Golfclub
X-ORIGINAL-URL:https://www.noordwijksegolfclub.nl
X-WR-CALDESC:Evenementen voor Noordwijkse Golfclub
BEGIN:VTIMEZONE
TZID:Europe/Amsterdam
BEGIN:DAYLIGHT
TZOFFSETFROM:+0100
TZOFFSETTO:+0200
TZNAME:CEST
DTSTART:20230326T010000
END:DAYLIGHT
BEGIN:STANDARD
TZOFFSETFROM:+0200
TZOFFSETTO:+0100
TZNAME:CET
DTSTART:20231029T010000
END:STANDARD
END:VTIMEZONE
BEGIN:VEVENT
DTSTART;TZID=Europe/Amsterdam:20230107T090000
DTEND;TZID=Europe/Amsterdam:20230107T143000
DTSTAMP:20260424T030941
CREATED:20220404T075541Z
LAST-MODIFIED:20250119T102319Z
UID:31585-1673082000-1673101800@www.noordwijksegolfclub.nl
SUMMARY:4e Winterwedstrijd I
DESCRIPTION:
URL:https://www.noordwijksegolfclub.nl/event/1e-winterwedstrijd-i-2-2023-01-07/2023-01-07/
END:VEVENT
END:VCALENDAR