BEGIN:VCALENDAR
VERSION:2.0
PRODID:-//Noordwijkse Golfclub - ECPv5.16.4//NONSGML v1.0//EN
CALSCALE:GREGORIAN
METHOD:PUBLISH
X-WR-CALNAME:Noordwijkse Golfclub
X-ORIGINAL-URL:https://www.noordwijksegolfclub.nl
X-WR-CALDESC:Evenementen voor Noordwijkse Golfclub
BEGIN:VTIMEZONE
TZID:Europe/Amsterdam
BEGIN:DAYLIGHT
TZOFFSETFROM:+0100
TZOFFSETTO:+0200
TZNAME:CEST
DTSTART:20210328T010000
END:DAYLIGHT
BEGIN:STANDARD
TZOFFSETFROM:+0200
TZOFFSETTO:+0100
TZNAME:CET
DTSTART:20211031T010000
END:STANDARD
END:VTIMEZONE
BEGIN:VEVENT
DTSTART;TZID=Europe/Amsterdam:20210707T100000
DTEND;TZID=Europe/Amsterdam:20210707T120000
DTSTAMP:20260424T121609
CREATED:20210126T113235Z
LAST-MODIFIED:20210518T103416Z
UID:23277-1625652000-1625659200@www.noordwijksegolfclub.nl
SUMMARY:Combi Vriendinnendag
DESCRIPTION:
URL:https://www.noordwijksegolfclub.nl/event/combi-club-6-2021-07-07/
END:VEVENT
END:VCALENDAR