BEGIN:VCALENDAR
VERSION:2.0
PRODID:-//Noordwijkse Golfclub - ECPv5.16.4//NONSGML v1.0//EN
CALSCALE:GREGORIAN
METHOD:PUBLISH
X-WR-CALNAME:Noordwijkse Golfclub
X-ORIGINAL-URL:https://www.noordwijksegolfclub.nl
X-WR-CALDESC:Evenementen voor Noordwijkse Golfclub
BEGIN:VTIMEZONE
TZID:Europe/Amsterdam
BEGIN:DAYLIGHT
TZOFFSETFROM:+0100
TZOFFSETTO:+0200
TZNAME:CEST
DTSTART:20170326T010000
END:DAYLIGHT
BEGIN:STANDARD
TZOFFSETFROM:+0200
TZOFFSETTO:+0100
TZNAME:CET
DTSTART:20171029T010000
END:STANDARD
END:VTIMEZONE
BEGIN:VEVENT
DTSTART;TZID=Europe/Amsterdam:20170506T083000
DTEND;TZID=Europe/Amsterdam:20170506T141000
DTSTAMP:20260421T084535
CREATED:20170206T152902Z
LAST-MODIFIED:20180115T132151Z
UID:3329-1494059400-1494079800@www.noordwijksegolfclub.nl
SUMMARY:Dehnert Echtparen Beker
DESCRIPTION:
URL:https://www.noordwijksegolfclub.nl/event/dehnert-echtparen-beker/2017-05-06/
END:VEVENT
END:VCALENDAR