BEGIN:VCALENDAR
VERSION:2.0
PRODID:-//Noordwijkse Golfclub - ECPv5.16.4//NONSGML v1.0//EN
CALSCALE:GREGORIAN
METHOD:PUBLISH
X-WR-CALNAME:Noordwijkse Golfclub
X-ORIGINAL-URL:https://www.noordwijksegolfclub.nl
X-WR-CALDESC:Evenementen voor Noordwijkse Golfclub
BEGIN:VTIMEZONE
TZID:Europe/Amsterdam
BEGIN:DAYLIGHT
TZOFFSETFROM:+0100
TZOFFSETTO:+0200
TZNAME:CEST
DTSTART:20170326T010000
END:DAYLIGHT
BEGIN:STANDARD
TZOFFSETFROM:+0200
TZOFFSETTO:+0100
TZNAME:CET
DTSTART:20171029T010000
END:STANDARD
END:VTIMEZONE
BEGIN:VEVENT
DTSTART;TZID=Europe/Amsterdam:20170503T170000
DTEND;TZID=Europe/Amsterdam:20170503T190000
DTSTAMP:20260421T070308
CREATED:20170128T113615Z
LAST-MODIFIED:20170128T113946Z
UID:2895-1493830800-1493838000@www.noordwijksegolfclub.nl
SUMMARY:Zomeravond Bal
DESCRIPTION:betalen in clubzaal\, introducees zijn welkom \nna afloop eten met de groep \nmen mag net zo veel holes spelen als je wilt \nbeste aaneengesloten 9 holes score telt (bijvoorbeeld hole 2 t/m 10 of 3 t/m 11\, etc.)
URL:https://www.noordwijksegolfclub.nl/event/zomeravond-bal/2017-05-03/
END:VEVENT
END:VCALENDAR